BEGIN:VCALENDAR
VERSION:2.0
PRODID:-//Францисканська Молодь в Україні - ECPv5.13.0//NONSGML v1.0//EN
CALSCALE:GREGORIAN
METHOD:PUBLISH
X-WR-CALNAME:Францисканська Молодь в Україні
X-ORIGINAL-URL:https://youfra.com.ua
X-WR-CALDESC:Події за Францисканська Молодь в Україні
REFRESH-INTERVAL;VALUE=DURATION:PT1H
X-Robots-Tag:noindex
X-PUBLISHED-TTL:PT1H
BEGIN:VTIMEZONE
TZID:Europe/Kiev
BEGIN:DAYLIGHT
TZOFFSETFROM:+0200
TZOFFSETTO:+0300
TZNAME:EEST
DTSTART:20230326T010000
END:DAYLIGHT
BEGIN:STANDARD
TZOFFSETFROM:+0300
TZOFFSETTO:+0200
TZNAME:EET
DTSTART:20231029T010000
END:STANDARD
END:VTIMEZONE
BEGIN:VEVENT
DTSTART;TZID=Europe/Kiev:20230814T120000
DTEND;TZID=Europe/Kiev:20230822T170000
DTSTAMP:20260419T214756
CREATED:20230607T115649Z
LAST-MODIFIED:20230730T224844Z
UID:13289-1692014400-1692723600@youfra.com.ua
SUMMARY:«Spoleto». Реколекції для молоді
DESCRIPTION:Запрошуємо на францисканські реколекції!! \n\n\n\nВони відбудуться традиційно в реколекційному осередку Сестер Служниць Святого Духав в селі Вербовець Могилів-Подільського району (раніше Мурованокуриловецький район) Вінницької області. \n\n\n\n \n\n\n\nЗапрошений кожен віком від 14 до 30 років\, хто хоче ближче пізнати Бога. \n\n\n\n \n\n\n\n \n\n\n\nДолина Сполето\, що в Італії\, для святого Франциска Асізького стала місцем першої зустірчі з Богом. Щиро запрошуємо і вас зустрітися з нашим Господом на «Сполето» в Україні. \n\n\n\n \n\n\n\n \n\n\n\nЦіна: 1800 грн \n\n\n\n \n\n\n\nЦього року буде 2 тури реколекцій Сполето. Запрошуємо обирати дату\, яка більше підходить\, не зволікаючи\, та реєструватися за посиланнями нижче: \n\n\n\n\n1 тур (27.07-04.08)\n\n\n\n2 тур (14.08-22.08)
URL:https://youfra.com.ua/good_event/spoleto-rekolektsiyi-dlya-molodi/
CATEGORIES:Подія_Реколекції
ATTACH;FMTTYPE=image/jpeg:https://youfra.com.ua/wp-content/uploads/2023/06/SPOLETO-2-1.jpg
END:VEVENT
END:VCALENDAR